BEGIN:VCALENDAR
VERSION:2.0
PRODID:-// - ECPv6.15.11//NONSGML v1.0//EN
CALSCALE:GREGORIAN
METHOD:PUBLISH
X-ORIGINAL-URL:https://noblecountyagsociety.com
X-WR-CALDESC:Events for 
REFRESH-INTERVAL;VALUE=DURATION:PT1H
X-Robots-Tag:noindex
X-PUBLISHED-TTL:PT1H
BEGIN:VTIMEZONE
TZID:America/Detroit
BEGIN:DAYLIGHT
TZOFFSETFROM:-0500
TZOFFSETTO:-0400
TZNAME:EDT
DTSTART:20190310T070000
END:DAYLIGHT
BEGIN:STANDARD
TZOFFSETFROM:-0400
TZOFFSETTO:-0500
TZNAME:EST
DTSTART:20191103T060000
END:STANDARD
BEGIN:DAYLIGHT
TZOFFSETFROM:-0500
TZOFFSETTO:-0400
TZNAME:EDT
DTSTART:20200308T070000
END:DAYLIGHT
BEGIN:STANDARD
TZOFFSETFROM:-0400
TZOFFSETTO:-0500
TZNAME:EST
DTSTART:20201101T060000
END:STANDARD
BEGIN:DAYLIGHT
TZOFFSETFROM:-0500
TZOFFSETTO:-0400
TZNAME:EDT
DTSTART:20210314T070000
END:DAYLIGHT
BEGIN:STANDARD
TZOFFSETFROM:-0400
TZOFFSETTO:-0500
TZNAME:EST
DTSTART:20211107T060000
END:STANDARD
BEGIN:DAYLIGHT
TZOFFSETFROM:-0500
TZOFFSETTO:-0400
TZNAME:EDT
DTSTART:20220313T070000
END:DAYLIGHT
BEGIN:STANDARD
TZOFFSETFROM:-0400
TZOFFSETTO:-0500
TZNAME:EST
DTSTART:20221106T060000
END:STANDARD
BEGIN:DAYLIGHT
TZOFFSETFROM:-0500
TZOFFSETTO:-0400
TZNAME:EDT
DTSTART:20230312T070000
END:DAYLIGHT
BEGIN:STANDARD
TZOFFSETFROM:-0400
TZOFFSETTO:-0500
TZNAME:EST
DTSTART:20231105T060000
END:STANDARD
BEGIN:DAYLIGHT
TZOFFSETFROM:-0500
TZOFFSETTO:-0400
TZNAME:EDT
DTSTART:20240310T070000
END:DAYLIGHT
BEGIN:STANDARD
TZOFFSETFROM:-0400
TZOFFSETTO:-0500
TZNAME:EST
DTSTART:20241103T060000
END:STANDARD
BEGIN:DAYLIGHT
TZOFFSETFROM:-0500
TZOFFSETTO:-0400
TZNAME:EDT
DTSTART:20250309T070000
END:DAYLIGHT
BEGIN:STANDARD
TZOFFSETFROM:-0400
TZOFFSETTO:-0500
TZNAME:EST
DTSTART:20251102T060000
END:STANDARD
BEGIN:DAYLIGHT
TZOFFSETFROM:-0500
TZOFFSETTO:-0400
TZNAME:EDT
DTSTART:20260308T070000
END:DAYLIGHT
BEGIN:STANDARD
TZOFFSETFROM:-0400
TZOFFSETTO:-0500
TZNAME:EST
DTSTART:20261101T060000
END:STANDARD
END:VTIMEZONE
BEGIN:VEVENT
DTSTART;TZID=America/Detroit:20250705T180000
DTEND;TZID=America/Detroit:20250705T233000
DTSTAMP:20260424T132120
CREATED:20250506T002250Z
LAST-MODIFIED:20250613T144402Z
UID:1540-1751738400-1751758200@noblecountyagsociety.com
SUMMARY:Truck and Tractor Pull
DESCRIPTION:
URL:https://noblecountyagsociety.com/event/truck-and-tractor-pull/
LOCATION:Noble County Fairgrounds
CATEGORIES:Events at the Fairgrounds,Truck and Tractor Pull
ATTACH;FMTTYPE=image/jpeg:https://noblecountyagsociety.com/wp-content/uploads/2013/05/truckpull1.jpg
END:VEVENT
BEGIN:VEVENT
DTSTART;TZID=America/Detroit:20250705T080000
DTEND;TZID=America/Detroit:20250705T170000
DTSTAMP:20260424T132120
CREATED:20250507T200545Z
LAST-MODIFIED:20250507T200545Z
UID:1555-1751702400-1751734800@noblecountyagsociety.com
SUMMARY:Pig Show
DESCRIPTION:
URL:https://noblecountyagsociety.com/event/pig-show/
LOCATION:Noble County Fairgrounds\, Caldwell\, United States
CATEGORIES:Events at the Fairgrounds,Pig Show
END:VEVENT
BEGIN:VEVENT
DTSTART;TZID=America/Detroit:20250704T080000
DTEND;TZID=America/Detroit:20250704T220000
DTSTAMP:20260424T132120
CREATED:20250507T200341Z
LAST-MODIFIED:20250507T200341Z
UID:1551-1751616000-1751666400@noblecountyagsociety.com
SUMMARY:Chicken BBQ\, Car Show\, Kiddie Pedal Pull and Fireworks
DESCRIPTION:
URL:https://noblecountyagsociety.com/event/chicken-bbq-car-show-kiddie-pedal-pull-and-fireworks/
LOCATION:Noble County Fairgrounds
CATEGORIES:Camping,Events at the Fairgrounds
END:VEVENT
BEGIN:VEVENT
DTSTART;TZID=America/Detroit:20250702T200000
DTEND;TZID=America/Detroit:20250702T230000
DTSTAMP:20260424T132120
CREATED:20250507T200132Z
LAST-MODIFIED:20250507T200132Z
UID:1548-1751486400-1751497200@noblecountyagsociety.com
SUMMARY:July 4th Camping Movie Night
DESCRIPTION:
URL:https://noblecountyagsociety.com/event/july-4th-camping-movie-night/
LOCATION:Noble County Fairgrounds
CATEGORIES:Camping,Events at the Fairgrounds
END:VEVENT
BEGIN:VEVENT
DTSTART;VALUE=DATE:20250701
DTEND;VALUE=DATE:20250703
DTSTAMP:20260424T132120
CREATED:20250507T200045Z
LAST-MODIFIED:20250507T200146Z
UID:1546-1751342400-1751428799@noblecountyagsociety.com
SUMMARY:July 4th Camping Pot Luck & Scavenger Hunt
DESCRIPTION:July 4th Camping Event
URL:https://noblecountyagsociety.com/event/pot-luck-scavenger-hunt/
LOCATION:Noble County Fairgrounds
CATEGORIES:Camping,Events at the Fairgrounds
END:VEVENT
BEGIN:VEVENT
DTSTART;TZID=America/Detroit:20250628T180000
DTEND;TZID=America/Detroit:20250628T233000
DTSTAMP:20260424T132120
CREATED:20250507T200453Z
LAST-MODIFIED:20250613T144226Z
UID:1553-1751133600-1751153400@noblecountyagsociety.com
SUMMARY:Summer Demolition Derby
DESCRIPTION:
URL:https://noblecountyagsociety.com/event/summer-demolition-derby/
LOCATION:Grandstands
CATEGORIES:Derby,Events at the Fairgrounds
ATTACH;FMTTYPE=image/png:https://noblecountyagsociety.com/wp-content/uploads/2013/05/Derby.png
END:VEVENT
BEGIN:VEVENT
DTSTART;TZID=America/Detroit:20250627T080000
DTEND;TZID=America/Detroit:20250706T170000
DTSTAMP:20260424T132120
CREATED:20250507T195953Z
LAST-MODIFIED:20250507T195953Z
UID:1544-1751011200-1751821200@noblecountyagsociety.com
SUMMARY:July 4th Camping for 2025
DESCRIPTION:
URL:https://noblecountyagsociety.com/event/july-4th-camping-for-2025/
LOCATION:Noble County Fairgrounds\, OH
CATEGORIES:Camping,Events at the Fairgrounds
END:VEVENT
BEGIN:VEVENT
DTSTART;TZID=America/Detroit:20250614T100000
DTEND;TZID=America/Detroit:20250614T180000
DTSTAMP:20260424T132120
CREATED:20250505T230346Z
LAST-MODIFIED:20250505T232523Z
UID:1476-1749895200-1749924000@noblecountyagsociety.com
SUMMARY:2025 Gun Arama
DESCRIPTION:The 2025 Gun Arama will be held on Saturday\, June 14th. Gates open at 10AM and tickets will be $50 and are available at several ticket outlets in the area and online! \nOVERNIGHT CAMPING AVAILABLE – $30/Night \n  \n  \nTickets are available now from Director\, JC Slevin by mail. \n \n \nTickets are available online:
URL:https://noblecountyagsociety.com/event/2025-gun-arama/
LOCATION:Noble County Fairgrounds\, OH
CATEGORIES:Gun Arama
END:VEVENT
BEGIN:VEVENT
DTSTART;TZID=America/Detroit:20250610T183000
DTEND;TZID=America/Detroit:20250610T193000
DTSTAMP:20260424T132120
CREATED:20250505T232404Z
LAST-MODIFIED:20250505T232404Z
UID:1492-1749580200-1749583800@noblecountyagsociety.com
SUMMARY:June 2025 Board Meeting
DESCRIPTION:
URL:https://noblecountyagsociety.com/event/june-2025-board-meeting/
LOCATION:Fairboard Office\, 44393 Fairground Road\, Caldwell\, OH\, 43724\, United States
CATEGORIES:Fairboard Meetings
END:VEVENT
BEGIN:VEVENT
DTSTART;TZID=America/Detroit:20250607T080000
DTEND;TZID=America/Detroit:20250607T170000
DTSTAMP:20260424T132120
CREATED:20250505T232248Z
LAST-MODIFIED:20250505T232248Z
UID:1490-1749283200-1749315600@noblecountyagsociety.com
SUMMARY:Angus Association Cattle Show
DESCRIPTION:
URL:https://noblecountyagsociety.com/event/angus-association-cattle-show/
LOCATION:Noble County Fairgrounds\, OH
CATEGORIES:Cattle Show
END:VEVENT
BEGIN:VEVENT
DTSTART;TZID=America/Detroit:20250518T090000
DTEND;TZID=America/Detroit:20250518T180000
DTSTAMP:20260424T132120
CREATED:20250506T001721Z
LAST-MODIFIED:20250506T001721Z
UID:1537-1747558800-1747591200@noblecountyagsociety.com
SUMMARY:Noble County Flea Market Day 3
DESCRIPTION:
URL:https://noblecountyagsociety.com/event/noble-county-flea-market-day-3/
LOCATION:Noble County Fairgrounds\, OH
CATEGORIES:Events at the Fairgrounds
END:VEVENT
BEGIN:VEVENT
DTSTART;TZID=America/Detroit:20250517T090000
DTEND;TZID=America/Detroit:20250517T180000
DTSTAMP:20260424T132120
CREATED:20250506T001606Z
LAST-MODIFIED:20250506T001606Z
UID:1535-1747472400-1747504800@noblecountyagsociety.com
SUMMARY:Noble County Flea Market Day 2
DESCRIPTION:
URL:https://noblecountyagsociety.com/event/noble-county-flea-market-day-2/
LOCATION:Noble County Fairgrounds
CATEGORIES:Events at the Fairgrounds
END:VEVENT
BEGIN:VEVENT
DTSTART;TZID=America/Detroit:20250516T090000
DTEND;TZID=America/Detroit:20250516T180000
DTSTAMP:20260424T132120
CREATED:20250506T000827Z
LAST-MODIFIED:20250506T001744Z
UID:1527-1747386000-1747418400@noblecountyagsociety.com
SUMMARY:Noble County Flea Market Day 1
DESCRIPTION:
URL:https://noblecountyagsociety.com/event/noble-county-flea-market/
LOCATION:Noble County Fairgrounds\, OH
CATEGORIES:Events at the Fairgrounds
ATTACH;FMTTYPE=image/jpeg:https://noblecountyagsociety.com/wp-content/uploads/2025/05/IMG_5993-scaled.jpg
END:VEVENT
BEGIN:VEVENT
DTSTART;TZID=America/Detroit:20250513T183000
DTEND;TZID=America/Detroit:20250513T193000
DTSTAMP:20260424T132120
CREATED:20250505T231529Z
LAST-MODIFIED:20250505T231529Z
UID:1482-1747161000-1747164600@noblecountyagsociety.com
SUMMARY:May 2025 Board Meeting
DESCRIPTION:
URL:https://noblecountyagsociety.com/event/may-2025-board-meeting/
LOCATION:Fairboard Office\, 44393 Fairground Road\, Caldwell\, OH\, 43724\, United States
CATEGORIES:Building Rentals
END:VEVENT
BEGIN:VEVENT
DTSTART;TZID=America/Detroit:20250511T100000
DTEND;TZID=America/Detroit:20250511T190000
DTSTAMP:20260424T132120
CREATED:20250505T235400Z
LAST-MODIFIED:20250505T235453Z
UID:1518-1746957600-1746990000@noblecountyagsociety.com
SUMMARY:Sheriff Department K9 Fundraiser BBQ
DESCRIPTION:
URL:https://noblecountyagsociety.com/event/sheriff-department-k9-fundraiser-bbq/
LOCATION:Noble County Fairgrounds\, OH
CATEGORIES:Events at the Fairgrounds
END:VEVENT
BEGIN:VEVENT
DTSTART;TZID=America/Detroit:20240826T080000
DTEND;TZID=America/Detroit:20240831T233000
DTSTAMP:20260424T132120
CREATED:20240624T165757Z
LAST-MODIFIED:20240624T165757Z
UID:1410-1724659200-1725147000@noblecountyagsociety.com
SUMMARY:Noble County Fair
DESCRIPTION:Gates Open at 8am\nGeneral Daily Admission – $12.00 per day\nChildren 2 & Under FREE\nSeason & Membership Tickets $30\nSenior Citizen & Veterans Day – Friday 8 a.m. until 5:00 p.m.. Age 60 and over and Veterans get Free Admittance\nRides open Tuesday through Thursday 4-11pm\, Friday & Saturday 1-5pm\, 6-11pm
URL:https://noblecountyagsociety.com/event/noble-county-fair/
LOCATION:Noble County Fairgrounds\, OH
CATEGORIES:Noble County Fair
ATTACH;FMTTYPE=image/jpeg:https://noblecountyagsociety.com/wp-content/uploads/2024/06/fair.jpg
END:VEVENT
BEGIN:VEVENT
DTSTART;TZID=America/Detroit:20240706T180000
DTEND;TZID=America/Detroit:20240706T233000
DTSTAMP:20260424T132120
CREATED:20240624T153259Z
LAST-MODIFIED:20240624T154418Z
UID:1389-1720288800-1720308600@noblecountyagsociety.com
SUMMARY:Demolition Derby
DESCRIPTION:More info to come!
URL:https://noblecountyagsociety.com/event/demolition-derby/
LOCATION:Grandstands
CATEGORIES:Derby,Events at the Fairgrounds
ATTACH;FMTTYPE=image/png:https://noblecountyagsociety.com/wp-content/uploads/2013/05/Derby.png
END:VEVENT
BEGIN:VEVENT
DTSTART;TZID=America/Detroit:20240705T200000
DTEND;TZID=America/Detroit:20240705T230000
DTSTAMP:20260424T132120
CREATED:20240624T153739Z
LAST-MODIFIED:20240624T153813Z
UID:1393-1720209600-1720220400@noblecountyagsociety.com
SUMMARY:Live Music with Driveline
DESCRIPTION:
URL:https://noblecountyagsociety.com/event/live-music-with-driveline/
LOCATION:Midway Stage\, 44163 Fairground Rd\, Caldwell\, OH\, 43724\, United States
CATEGORIES:Events at the Fairgrounds
ATTACH;FMTTYPE=image/jpeg:https://noblecountyagsociety.com/wp-content/uploads/2024/06/driveline.jpg
END:VEVENT
BEGIN:VEVENT
DTSTART;TZID=America/Detroit:20240704T100000
DTEND;TZID=America/Detroit:20240704T220000
DTSTAMP:20260424T132120
CREATED:20240624T153440Z
LAST-MODIFIED:20240624T154854Z
UID:1391-1720087200-1720130400@noblecountyagsociety.com
SUMMARY:July 4th Car Show\, Chicken BBQ and Fireworks
DESCRIPTION:
URL:https://noblecountyagsociety.com/event/july-4th-car-show-chicken-bbq-and-fireworks/
LOCATION:Noble County Fairgrounds\, OH
CATEGORIES:Car Show,Events at the Fairgrounds
ATTACH;FMTTYPE=image/jpeg:https://noblecountyagsociety.com/wp-content/uploads/2024/06/july4.jpg
END:VEVENT
BEGIN:VEVENT
DTSTART;TZID=America/Detroit:20240629T180000
DTEND;TZID=America/Detroit:20240629T233000
DTSTAMP:20260424T132120
CREATED:20240624T153009Z
LAST-MODIFIED:20240624T155246Z
UID:1385-1719684000-1719703800@noblecountyagsociety.com
SUMMARY:Truck Pull
DESCRIPTION:
URL:https://noblecountyagsociety.com/event/truck-pull-2/
LOCATION:Grandstands
CATEGORIES:Events at the Fairgrounds,Truck and Tractor Pull
ATTACH;FMTTYPE=image/jpeg:https://noblecountyagsociety.com/wp-content/uploads/2013/05/truckpull1.jpg
END:VEVENT
BEGIN:VEVENT
DTSTART;TZID=America/Detroit:20240628T080000
DTEND;TZID=America/Detroit:20240707T170000
DTSTAMP:20260424T132120
CREATED:20240428T191126Z
LAST-MODIFIED:20240624T154917Z
UID:1355-1719561600-1720371600@noblecountyagsociety.com
SUMMARY:July 4th Camping 2024
DESCRIPTION:Additional Flyer:
URL:https://noblecountyagsociety.com/event/july-4th-camping-2024/
LOCATION:Noble County Fairgrounds\, OH
CATEGORIES:4-H,Camping,Events at the Fairgrounds
ATTACH;FMTTYPE=image/webp:https://noblecountyagsociety.com/wp-content/uploads/2024/06/camping.webp
END:VEVENT
BEGIN:VEVENT
DTSTART;VALUE=DATE:20240615
DTEND;VALUE=DATE:20240617
DTSTAMP:20260424T132120
CREATED:20240424T114817Z
LAST-MODIFIED:20240424T114925Z
UID:1347-1718424000-1718510399@noblecountyagsociety.com
SUMMARY:Gun Arama 2024
DESCRIPTION:The 2024 Gun Arama will be held on Saturday\, June 15th. Gates open at 10AM and tickets will be $50 and are available at several ticket outlets in the area and online! \n  \n2024 Gun Arama\n  \nTickets are available online: \n\n \n  \nTickets are available now from Director\, JC Slevin by mail.
URL:https://noblecountyagsociety.com/event/gun-arama-2024/
LOCATION:Noble County Fairgrounds\, OH
CATEGORIES:Gun Arama
END:VEVENT
BEGIN:VEVENT
DTSTART;TZID=America/Detroit:20230623T160000
DTEND;TZID=America/Detroit:20230705T170000
DTSTAMP:20260424T132120
CREATED:20230418T200206Z
LAST-MODIFIED:20230418T200206Z
UID:1293-1687536000-1688576400@noblecountyagsociety.com
SUMMARY:July 4th Camping 2023
DESCRIPTION:July4Camping_20230418_0001
URL:https://noblecountyagsociety.com/event/july-4th-camping-2023/
LOCATION:Noble County Fairgrounds\, Caldwell\, United States
CATEGORIES:Camping,Events at the Fairgrounds
END:VEVENT
BEGIN:VEVENT
DTSTART;TZID=America/Detroit:20230617T080000
DTEND;TZID=America/Detroit:20230617T170000
DTSTAMP:20260424T132120
CREATED:20221024T140320Z
LAST-MODIFIED:20230522T132344Z
UID:1273-1686988800-1687021200@noblecountyagsociety.com
SUMMARY:Gun Arama 2023
DESCRIPTION:The 2023 Gun Arama will be held on Saturday\, June 17th. Gates open at 10AM and tickets will be $50 and are available at several ticket outlets in the area.  Tickets are available online: \n\n \n \nTickets are available now from Director\, JC Slevin by mail.
URL:https://noblecountyagsociety.com/event/gun-arama-2023/
LOCATION:Noble County Fairgrounds\, OH
CATEGORIES:Gun Arama
END:VEVENT
BEGIN:VEVENT
DTSTART;TZID=America/Detroit:20221028T080000
DTEND;TZID=America/Detroit:20221030T170000
DTSTAMP:20260424T132120
CREATED:20221024T142551Z
LAST-MODIFIED:20221024T142551Z
UID:1277-1666944000-1667149200@noblecountyagsociety.com
SUMMARY:Halloween Camping 2022
DESCRIPTION:Bring your camper for some Halloween events at the Noble County Fairgrounds.  Cost is just $30/night. \nFriday\, there will be a Caldwell Redskins tournament football game at the grandstands.
URL:https://noblecountyagsociety.com/event/halloween-camping-2022/
LOCATION:Noble County Fairgrounds\, OH
CATEGORIES:Camping,Events at the Fairgrounds
END:VEVENT
BEGIN:VEVENT
DTSTART;TZID=America/Detroit:20220623T170000
DTEND;TZID=America/Detroit:20220705T170000
DTSTAMP:20260424T132120
CREATED:20220524T170624Z
LAST-MODIFIED:20220524T171153Z
UID:1221-1656003600-1657040400@noblecountyagsociety.com
SUMMARY:July 4th Camping\, 2022
DESCRIPTION:The Noble County Fairboard Presents:\n4th of July Holiday Camping and Events\nCost is $250 for 12 days of camping or just $30/night if only staying for part of the event.  Water and Electric is included as well as admission to all scheduled events.  Please review our flyer to see all of the events!
URL:https://noblecountyagsociety.com/event/july-4th-camping-2022/
LOCATION:Noble County Fairgrounds\, Caldwell\, United States
CATEGORIES:Camping,Events at the Fairgrounds
END:VEVENT
BEGIN:VEVENT
DTSTART;TZID=America/Detroit:20220618T100000
DTEND;TZID=America/Detroit:20220618T200000
DTSTAMP:20260424T132120
CREATED:20220307T174251Z
LAST-MODIFIED:20220404T195026Z
UID:1202-1655546400-1655582400@noblecountyagsociety.com
SUMMARY:Gun Arama 2022
DESCRIPTION:The 2022 Gun Arama will be held on Saturday\, June 18th. Gates open at 10AM and tickets will be $50 and are available at several ticket outlets in the area. Please review the Gun Arama flyer to view the full list of venues. Tickets can also be purchased below: \n\n \n  \nGunArama2022_20220211_0001
URL:https://noblecountyagsociety.com/event/gun-arama-2022/
LOCATION:Grandstands
CATEGORIES:Events at the Fairgrounds,Gun Arama
END:VEVENT
BEGIN:VEVENT
DTSTART;TZID=America/Detroit:20210605T183000
DTEND;TZID=America/Detroit:20210605T220000
DTSTAMP:20260424T132120
CREATED:20210321T171650Z
LAST-MODIFIED:20210321T171742Z
UID:1151-1622917800-1622930400@noblecountyagsociety.com
SUMMARY:Summer Derby
DESCRIPTION:Noble County Summer Flyer_2021
URL:https://noblecountyagsociety.com/event/summer-derby-2021/
LOCATION:Grandstands
CATEGORIES:Derby
END:VEVENT
BEGIN:VEVENT
DTSTART;TZID=America/Detroit:20201024T180000
DTEND;TZID=America/Detroit:20201024T220000
DTSTAMP:20260424T132120
CREATED:20200930T132325Z
LAST-MODIFIED:20200930T132325Z
UID:1024-1603562400-1603576800@noblecountyagsociety.com
SUMMARY:Truck Pull
DESCRIPTION:For a full listing of rules and regulations\, please visit the American Farm Pullers Association website here: http://www.americanfarmpullers.com/afpa/  \nTime of event will be confirmed.
URL:https://noblecountyagsociety.com/event/truck-pull/
LOCATION:Grandstands
CATEGORIES:Truck and Tractor Pull
END:VEVENT
BEGIN:VEVENT
DTSTART;TZID=America/Detroit:20201010T100000
DTEND;TZID=America/Detroit:20201010T180000
DTSTAMP:20260424T132120
CREATED:20200330T005250Z
LAST-MODIFIED:20200513T204915Z
UID:985-1602324000-1602352800@noblecountyagsociety.com
SUMMARY:Gun Arama 2020
DESCRIPTION:New Flyer Coming Soon! \nGun Arama has been rescheduled to October 10th\, due to the coronavirus pandemic.
URL:https://noblecountyagsociety.com/event/gun-arama-2020/
LOCATION:OH
CATEGORIES:Events at the Fairgrounds,Gun Arama
END:VEVENT
END:VCALENDAR